Package: S4Arrays Version: 1.7.3 Command: E:\biocbuild\bbs-3.21-bioc\R\bin\R.exe CMD INSTALL S4Arrays StartedAt: 2025-02-20 15:28:27 -0500 (Thu, 20 Feb 2025) EndedAt: 2025-02-20 15:29:49 -0500 (Thu, 20 Feb 2025) EllapsedTime: 81.6 seconds RetCode: 0 Status: OK