Package: S4Arrays Version: 1.7.3 Command: E:\biocbuild\bbs-3.21-bioc\R\bin\R.exe CMD check --no-multiarch --install=check:S4Arrays.install-out.txt --library=E:\biocbuild\bbs-3.21-bioc\R\library --no-vignettes --timings S4Arrays_1.7.3.tar.gz StartedAt: 2025-02-21 05:16:24 -0500 (Fri, 21 Feb 2025) EndedAt: 2025-02-21 05:19:14 -0500 (Fri, 21 Feb 2025) EllapsedTime: 170.3 seconds RetCode: 0 Status: OK CheckDir: S4Arrays.Rcheck Warnings: 0