Package: S4Arrays Version: 1.7.3 Command: chmod a+r S4Arrays -R && E:\biocbuild\bbs-3.21-bioc\R\bin\R.exe CMD build --keep-empty-dirs --no-resave-data S4Arrays StartedAt: 2025-02-20 21:28:00 -0500 (Thu, 20 Feb 2025) EndedAt: 2025-02-20 21:29:29 -0500 (Thu, 20 Feb 2025) EllapsedTime: 88.8 seconds RetCode: 0 Status: OK PackageFile: S4Arrays_1.7.3.tar.gz PackageFileSize: 287.2 KiB