Package: S4Arrays Version: 1.7.3 Command: rm -rf S4Arrays.buildbin-libdir && mkdir S4Arrays.buildbin-libdir && E:\biocbuild\bbs-3.21-bioc\R\bin\R.exe CMD INSTALL --build --library=S4Arrays.buildbin-libdir S4Arrays_1.7.3.tar.gz StartedAt: 2025-02-21 08:59:36 -0500 (Fri, 21 Feb 2025) EndedAt: 2025-02-21 09:01:04 -0500 (Fri, 21 Feb 2025) EllapsedTime: 88.8 seconds RetCode: 0 Status: OK PackageFile: S4Arrays_1.7.3.zip PackageFileSize: 1.155 MiB