Package: S4Arrays Version: 1.7.3 Command: /home/biocbuild/bbs-3.21-bioc/R/bin/R CMD check --install=check:S4Arrays.install-out.txt --library=/home/biocbuild/bbs-3.21-bioc/R/site-library --timings S4Arrays_1.7.3.tar.gz StartedAt: 2025-02-21 01:27:17 -0500 (Fri, 21 Feb 2025) EndedAt: 2025-02-21 01:29:37 -0500 (Fri, 21 Feb 2025) EllapsedTime: 140.2 seconds RetCode: 0 Status: OK CheckDir: S4Arrays.Rcheck Warnings: 0