Package: S4Arrays Version: 1.7.3 Command: /Library/Frameworks/R.framework/Resources/bin/R CMD check --install=check:S4Arrays.install-out.txt --library=/Library/Frameworks/R.framework/Resources/library --no-vignettes --timings S4Arrays_1.7.3.tar.gz StartedAt: 2025-02-20 22:57:14 -0500 (Thu, 20 Feb 2025) EndedAt: 2025-02-20 22:59:56 -0500 (Thu, 20 Feb 2025) EllapsedTime: 162.1 seconds RetCode: 0 Status: OK CheckDir: S4Arrays.Rcheck Warnings: 0