Package: S4Arrays Version: 1.7.3 Command: /Library/Frameworks/R.framework/Resources/bin/R CMD INSTALL S4Arrays StartedAt: 2025-02-20 15:02:44 -0500 (Thu, 20 Feb 2025) EndedAt: 2025-02-20 15:02:54 -0500 (Thu, 20 Feb 2025) EllapsedTime: 10.6 seconds RetCode: 0 Status: OK