Package: S4Arrays Version: 1.7.3 Command: /Library/Frameworks/R.framework/Resources/bin/R CMD build --keep-empty-dirs --no-resave-data S4Arrays StartedAt: 2025-02-20 17:28:23 -0500 (Thu, 20 Feb 2025) EndedAt: 2025-02-20 17:28:32 -0500 (Thu, 20 Feb 2025) EllapsedTime: 9.1 seconds RetCode: 0 Status: OK PackageFile: S4Arrays_1.7.3.tar.gz PackageFileSize: 287.1 KiB