Package: Rvisdiff Version: 1.5.0 Command: E:\biocbuild\bbs-3.21-bioc\R\bin\R.exe CMD INSTALL Rvisdiff StartedAt: 2025-02-20 15:25:33 -0500 (Thu, 20 Feb 2025) EndedAt: 2025-02-20 15:25:45 -0500 (Thu, 20 Feb 2025) EllapsedTime: 11.7 seconds RetCode: 0 Status: OK