Package: Rvisdiff Version: 1.5.0 Command: /Library/Frameworks/R.framework/Resources/bin/R CMD build --keep-empty-dirs --no-resave-data Rvisdiff StartedAt: 2025-02-19 18:05:22 -0500 (Wed, 19 Feb 2025) EndedAt: 2025-02-19 18:06:30 -0500 (Wed, 19 Feb 2025) EllapsedTime: 67.4 seconds RetCode: 0 Status: OK PackageFile: Rvisdiff_1.5.0.tar.gz PackageFileSize: 1.314 MiB