Package: Rvisdiff Version: 1.6.0 Command: /Library/Frameworks/R.framework/Resources/bin/R CMD check --install=check:Rvisdiff.install-out.txt --library=/Library/Frameworks/R.framework/Resources/library --no-vignettes --timings Rvisdiff_1.6.0.tar.gz StartedAt: 2025-10-15 10:48:34 -0400 (Wed, 15 Oct 2025) EndedAt: 2025-10-15 10:51:40 -0400 (Wed, 15 Oct 2025) EllapsedTime: 185.3 seconds RetCode: 0 Status: OK CheckDir: Rvisdiff.Rcheck Warnings: 0