Package: Rtreemix Version: 1.69.0 Command: /Library/Frameworks/R.framework/Resources/bin/R CMD INSTALL Rtreemix StartedAt: 2025-02-17 15:24:57 -0500 (Mon, 17 Feb 2025) EndedAt: 2025-02-17 15:25:01 -0500 (Mon, 17 Feb 2025) EllapsedTime: 4.0 seconds RetCode: 1 Status: ERROR