Package: Rtreemix Version: 1.69.0 Command: /Library/Frameworks/R.framework/Resources/bin/R CMD build --keep-empty-dirs --no-resave-data Rtreemix StartedAt: 2025-02-17 18:03:03 -0500 (Mon, 17 Feb 2025) EndedAt: 2025-02-17 18:03:06 -0500 (Mon, 17 Feb 2025) EllapsedTime: 3.4 seconds RetCode: 1 Status: ERROR PackageFile: None PackageFileSize: NA