Package: Rtpca Version: 1.17.0 Command: /home/biocbuild/bbs-3.21-bioc/R/bin/R CMD INSTALL Rtpca StartedAt: 2025-02-20 15:22:01 -0500 (Thu, 20 Feb 2025) EndedAt: 2025-02-20 15:22:08 -0500 (Thu, 20 Feb 2025) EllapsedTime: 7.8 seconds RetCode: 0 Status: OK