Package: Rtpca Version: 1.17.0 Command: /home/biocbuild/bbs-3.21-bioc/R/bin/R CMD build --keep-empty-dirs --no-resave-data Rtpca StartedAt: 2025-02-20 19:03:43 -0500 (Thu, 20 Feb 2025) EndedAt: 2025-02-20 19:04:05 -0500 (Thu, 20 Feb 2025) EllapsedTime: 22.0 seconds RetCode: 0 Status: OK PackageFile: Rtpca_1.17.0.tar.gz PackageFileSize: 2.182 MiB