Package: Rtpca Version: 1.17.0 Command: /Library/Frameworks/R.framework/Resources/bin/R CMD INSTALL Rtpca StartedAt: 2025-02-20 15:08:05 -0500 (Thu, 20 Feb 2025) EndedAt: 2025-02-20 15:08:22 -0500 (Thu, 20 Feb 2025) EllapsedTime: 17.6 seconds RetCode: 0 Status: OK