Package: Rsubread Version: 2.21.1 Command: E:\biocbuild\bbs-3.21-bioc\R\bin\R.exe CMD check --no-multiarch --install=check:Rsubread.install-out.txt --library=E:\biocbuild\bbs-3.21-bioc\R\library --no-vignettes --timings Rsubread_2.21.1.tar.gz StartedAt: 2025-02-21 05:12:41 -0500 (Fri, 21 Feb 2025) EndedAt: 2025-02-21 05:16:26 -0500 (Fri, 21 Feb 2025) EllapsedTime: 224.8 seconds RetCode: 0 Status: WARNINGS CheckDir: Rsubread.Rcheck Warnings: 1