Package: Rsubread Version: 2.21.1 Command: rm -rf Rsubread.buildbin-libdir && mkdir Rsubread.buildbin-libdir && E:\biocbuild\bbs-3.21-bioc\R\bin\R.exe CMD INSTALL --build --library=Rsubread.buildbin-libdir Rsubread_2.21.1.tar.gz StartedAt: 2025-02-22 09:12:15 -0500 (Sat, 22 Feb 2025) EndedAt: 2025-02-22 09:13:56 -0500 (Sat, 22 Feb 2025) EllapsedTime: 101.3 seconds RetCode: 0 Status: OK PackageFile: Rsubread_2.21.1.zip PackageFileSize: 13.05 MiB