Package: Rsubread Version: 2.21.1 Command: /home/biocbuild/bbs-3.21-bioc/R/bin/R CMD build --keep-empty-dirs --no-resave-data Rsubread StartedAt: 2025-02-20 19:03:02 -0500 (Thu, 20 Feb 2025) EndedAt: 2025-02-20 19:11:37 -0500 (Thu, 20 Feb 2025) EllapsedTime: 515.1 seconds RetCode: 0 Status: OK PackageFile: Rsubread_2.21.1.tar.gz PackageFileSize: 12.93 MiB