Package: Rsubread Version: 2.21.1 Command: /Library/Frameworks/R.framework/Resources/bin/R CMD check --install=check:Rsubread.install-out.txt --library=/Library/Frameworks/R.framework/Resources/library --no-vignettes --timings Rsubread_2.21.1.tar.gz StartedAt: 2025-02-20 22:54:59 -0500 (Thu, 20 Feb 2025) EndedAt: 2025-02-20 23:09:18 -0500 (Thu, 20 Feb 2025) EllapsedTime: 858.3 seconds RetCode: 0 Status: WARNINGS CheckDir: Rsubread.Rcheck Warnings: 2