Package: Rsubread Version: 2.21.1 Command: rm -rf Rsubread.buildbin-libdir && mkdir Rsubread.buildbin-libdir && /Users/biocbuild/BBS/utils/build-universal.sh Rsubread_2.21.1.tar.gz /Library/Frameworks/R.framework/Resources/bin/R Rsubread.buildbin-libdir StartedAt: 2025-02-21 00:50:29 -0500 (Fri, 21 Feb 2025) EndedAt: 2025-02-21 00:51:33 -0500 (Fri, 21 Feb 2025) EllapsedTime: 63.6 seconds RetCode: 0 Status: OK PackageFile: Rsubread_2.21.1.tgz PackageFileSize: 13.2 MiB