Package: Rsamtools Version: 2.23.1 Command: E:\biocbuild\bbs-3.21-bioc\R\bin\R.exe CMD check --no-multiarch --install=check:Rsamtools.install-out.txt --library=E:\biocbuild\bbs-3.21-bioc\R\library --no-vignettes --timings Rsamtools_2.23.1.tar.gz StartedAt: 2025-02-18 04:41:01 -0500 (Tue, 18 Feb 2025) EndedAt: 2025-02-18 04:45:39 -0500 (Tue, 18 Feb 2025) EllapsedTime: 278.3 seconds RetCode: 0 Status: WARNINGS CheckDir: Rsamtools.Rcheck Warnings: 1