Package: Rsamtools Version: 2.23.1 Command: /Library/Frameworks/R.framework/Resources/bin/R CMD INSTALL Rsamtools StartedAt: 2025-02-17 15:13:30 -0500 (Mon, 17 Feb 2025) EndedAt: 2025-02-17 15:14:30 -0500 (Mon, 17 Feb 2025) EllapsedTime: 59.8 seconds RetCode: 0 Status: OK