Package: Rsamtools Version: 2.23.1 Command: /Library/Frameworks/R.framework/Resources/bin/R CMD check --install=check:Rsamtools.install-out.txt --library=/Library/Frameworks/R.framework/Resources/library --no-vignettes --timings Rsamtools_2.23.1.tar.gz StartedAt: 2025-02-17 22:49:29 -0500 (Mon, 17 Feb 2025) EndedAt: 2025-02-17 22:52:32 -0500 (Mon, 17 Feb 2025) EllapsedTime: 182.9 seconds RetCode: 0 Status: WARNINGS CheckDir: Rsamtools.Rcheck Warnings: 2