Package: Rsamtools Version: 2.23.1 Command: rm -rf Rsamtools.buildbin-libdir && mkdir Rsamtools.buildbin-libdir && /Users/biocbuild/BBS/utils/build-universal.sh Rsamtools_2.23.1.tar.gz /Library/Frameworks/R.framework/Resources/bin/R Rsamtools.buildbin-libdir StartedAt: 2025-02-18 00:44:07 -0500 (Tue, 18 Feb 2025) EndedAt: 2025-02-18 00:45:29 -0500 (Tue, 18 Feb 2025) EllapsedTime: 82.0 seconds RetCode: 0 Status: OK PackageFile: Rsamtools_2.23.1.tgz PackageFileSize: 4.105 MiB