Package: Rsamtools Version: 2.23.1 Command: /home/biocbuild/R/R/bin/R CMD INSTALL Rsamtools StartedAt: 2025-01-29 19:45:50 -0000 (Wed, 29 Jan 2025) EndedAt: 2025-01-29 19:46:47 -0000 (Wed, 29 Jan 2025) EllapsedTime: 57.0 seconds RetCode: 0 Status: OK