Package: Rsamtools Version: 2.23.1 Command: rm -rf Rsamtools.buildbin-libdir && mkdir Rsamtools.buildbin-libdir && /Users/biocbuild/BBS/utils/build-universal.sh Rsamtools_2.23.1.tar.gz /Library/Frameworks/R.framework/Resources/bin/R Rsamtools.buildbin-libdir StartedAt: 2025-02-17 22:31:49 -0500 (Mon, 17 Feb 2025) EndedAt: 2025-02-17 22:32:07 -0500 (Mon, 17 Feb 2025) EllapsedTime: 18.4 seconds RetCode: 0 Status: OK PackageFile: Rsamtools_2.23.1.tgz PackageFileSize: 4.049 MiB