Package: Rqc Version: 1.41.0 Command: chmod a+r Rqc -R && E:\biocbuild\bbs-3.21-bioc\R\bin\R.exe CMD build --keep-empty-dirs --no-resave-data Rqc StartedAt: 2025-02-21 22:00:11 -0500 (Fri, 21 Feb 2025) EndedAt: 2025-02-21 22:02:31 -0500 (Fri, 21 Feb 2025) EllapsedTime: 140.1 seconds RetCode: 0 Status: OK PackageFile: Rqc_1.41.0.tar.gz PackageFileSize: 628.1 KiB