Package: Rqc Version: 1.41.0 Command: rm -rf Rqc.buildbin-libdir && mkdir Rqc.buildbin-libdir && E:\biocbuild\bbs-3.21-bioc\R\bin\R.exe CMD INSTALL --build --library=Rqc.buildbin-libdir Rqc_1.41.0.tar.gz StartedAt: 2025-02-22 09:11:41 -0500 (Sat, 22 Feb 2025) EndedAt: 2025-02-22 09:12:56 -0500 (Sat, 22 Feb 2025) EllapsedTime: 74.7 seconds RetCode: 0 Status: OK PackageFile: Rqc_1.41.0.zip PackageFileSize: 1.047 MiB