Package: Rqc Version: 1.41.0 Command: /home/biocbuild/bbs-3.21-bioc/R/bin/R CMD build --keep-empty-dirs --no-resave-data Rqc StartedAt: 2025-02-20 19:02:30 -0500 (Thu, 20 Feb 2025) EndedAt: 2025-02-20 19:03:54 -0500 (Thu, 20 Feb 2025) EllapsedTime: 84.1 seconds RetCode: 0 Status: OK PackageFile: Rqc_1.41.0.tar.gz PackageFileSize: 1.331 MiB