Package: Rqc Version: 1.41.0 Command: /Library/Frameworks/R.framework/Resources/bin/R CMD INSTALL Rqc StartedAt: 2025-02-21 15:26:25 -0500 (Fri, 21 Feb 2025) EndedAt: 2025-02-21 15:27:35 -0500 (Fri, 21 Feb 2025) EllapsedTime: 70.7 seconds RetCode: 0 Status: OK