Package: Rqc Version: 1.41.0 Command: /Library/Frameworks/R.framework/Resources/bin/R CMD check --install=check:Rqc.install-out.txt --library=/Library/Frameworks/R.framework/Resources/library --no-vignettes --timings Rqc_1.41.0.tar.gz StartedAt: 2025-02-21 22:54:37 -0500 (Fri, 21 Feb 2025) EndedAt: 2025-02-21 23:01:23 -0500 (Fri, 21 Feb 2025) EllapsedTime: 406.0 seconds RetCode: 0 Status: OK CheckDir: Rqc.Rcheck Warnings: 0