Package: Rqc Version: 1.41.0 Command: rm -rf Rqc.buildbin-libdir && mkdir Rqc.buildbin-libdir && /Users/biocbuild/BBS/utils/build-universal.sh Rqc_1.41.0.tar.gz /Library/Frameworks/R.framework/Resources/bin/R Rqc.buildbin-libdir StartedAt: 2025-02-22 00:51:10 -0500 (Sat, 22 Feb 2025) EndedAt: 2025-02-22 00:52:25 -0500 (Sat, 22 Feb 2025) EllapsedTime: 75.1 seconds RetCode: 0 Status: OK PackageFile: Rqc_1.41.0.tgz PackageFileSize: 1.441 MiB