Package: RolDE Version: 1.11.0 Command: /home/biocbuild/bbs-3.21-bioc/R/bin/R CMD build --keep-empty-dirs --no-resave-data RolDE StartedAt: 2025-02-19 18:57:50 -0500 (Wed, 19 Feb 2025) EndedAt: 2025-02-19 18:58:20 -0500 (Wed, 19 Feb 2025) EllapsedTime: 30.1 seconds RetCode: 0 Status: OK PackageFile: RolDE_1.11.0.tar.gz PackageFileSize: 1.259 MiB