Package: RolDE Version: 1.11.0 Command: /Library/Frameworks/R.framework/Resources/bin/R CMD build --keep-empty-dirs --no-resave-data RolDE StartedAt: 2025-02-20 18:02:35 -0500 (Thu, 20 Feb 2025) EndedAt: 2025-02-20 18:03:14 -0500 (Thu, 20 Feb 2025) EllapsedTime: 38.8 seconds RetCode: 0 Status: OK PackageFile: RolDE_1.11.0.tar.gz PackageFileSize: 1.266 MiB