Package: Rnits Version: 1.41.0 Command: /home/biocbuild/bbs-3.21-bioc/R/bin/R CMD INSTALL Rnits StartedAt: 2025-02-19 15:13:02 -0500 (Wed, 19 Feb 2025) EndedAt: 2025-02-19 15:13:11 -0500 (Wed, 19 Feb 2025) EllapsedTime: 9.0 seconds RetCode: 0 Status: OK