Package: Rnits Version: 1.41.0 Command: /home/biocbuild/bbs-3.21-bioc/R/bin/R CMD build --keep-empty-dirs --no-resave-data Rnits StartedAt: 2025-02-19 18:56:50 -0500 (Wed, 19 Feb 2025) EndedAt: 2025-02-19 18:57:58 -0500 (Wed, 19 Feb 2025) EllapsedTime: 68.0 seconds RetCode: 0 Status: OK PackageFile: Rnits_1.41.0.tar.gz PackageFileSize: 655.3 KiB