Package: Rnits Version: 1.41.0 Command: /Library/Frameworks/R.framework/Resources/bin/R CMD INSTALL Rnits StartedAt: 2025-02-18 15:11:18 -0500 (Tue, 18 Feb 2025) EndedAt: 2025-02-18 15:11:30 -0500 (Tue, 18 Feb 2025) EllapsedTime: 12.2 seconds RetCode: 0 Status: OK