Package: RnaSeqSampleSize Version: 2.17.0 Command: E:\biocbuild\bbs-3.21-bioc\R\bin\R.exe CMD INSTALL RnaSeqSampleSize StartedAt: 2025-02-17 16:44:18 -0500 (Mon, 17 Feb 2025) EndedAt: 2025-02-17 16:45:24 -0500 (Mon, 17 Feb 2025) EllapsedTime: 66.3 seconds RetCode: 0 Status: OK