Package: RnaSeqSampleSize Version: 2.17.0 Command: E:\biocbuild\bbs-3.21-bioc\R\bin\R.exe CMD check --no-multiarch --install=check:RnaSeqSampleSize.install-out.txt --library=E:\biocbuild\bbs-3.21-bioc\R\library --no-vignettes --timings RnaSeqSampleSize_2.17.0.tar.gz StartedAt: 2025-02-18 04:35:37 -0500 (Tue, 18 Feb 2025) EndedAt: 2025-02-18 04:42:06 -0500 (Tue, 18 Feb 2025) EllapsedTime: 388.2 seconds RetCode: 1 Status: ERROR CheckDir: RnaSeqSampleSize.Rcheck Warnings: NA