Package: RnaSeqSampleSize Version: 2.17.0 Command: chmod a+r RnaSeqSampleSize -R && E:\biocbuild\bbs-3.21-bioc\R\bin\R.exe CMD build --keep-empty-dirs --no-resave-data RnaSeqSampleSize StartedAt: 2025-02-17 21:07:24 -0500 (Mon, 17 Feb 2025) EndedAt: 2025-02-17 21:09:44 -0500 (Mon, 17 Feb 2025) EllapsedTime: 140.8 seconds RetCode: 0 Status: OK PackageFile: RnaSeqSampleSize_2.17.0.tar.gz PackageFileSize: 236.4 KiB