Package: RnaSeqSampleSize Version: 2.17.0 Command: /Library/Frameworks/R.framework/Resources/bin/R CMD INSTALL RnaSeqSampleSize StartedAt: 2025-02-17 15:43:24 -0500 (Mon, 17 Feb 2025) EndedAt: 2025-02-17 15:44:35 -0500 (Mon, 17 Feb 2025) EllapsedTime: 70.9 seconds RetCode: 0 Status: OK