Package: RnaSeqSampleSize Version: 2.17.0 Command: /Library/Frameworks/R.framework/Resources/bin/R CMD build --keep-empty-dirs --no-resave-data RnaSeqSampleSize StartedAt: 2025-02-17 18:00:36 -0500 (Mon, 17 Feb 2025) EndedAt: 2025-02-17 18:02:29 -0500 (Mon, 17 Feb 2025) EllapsedTime: 113.1 seconds RetCode: 0 Status: OK PackageFile: RnaSeqSampleSize_2.17.0.tar.gz PackageFileSize: 236.2 KiB