Package: RnaSeqSampleSize Version: 2.17.0 Command: rm -rf RnaSeqSampleSize.buildbin-libdir && mkdir RnaSeqSampleSize.buildbin-libdir && /Users/biocbuild/BBS/utils/build-universal.sh RnaSeqSampleSize_2.17.0.tar.gz /Library/Frameworks/R.framework/Resources/bin/R RnaSeqSampleSize.buildbin-libdir StartedAt: 2025-02-18 00:43:30 -0500 (Tue, 18 Feb 2025) EndedAt: 2025-02-18 00:44:45 -0500 (Tue, 18 Feb 2025) EllapsedTime: 74.9 seconds RetCode: 0 Status: OK PackageFile: RnaSeqSampleSize_2.17.0.tgz PackageFileSize: 331 KiB