Package: RnaSeqSampleSize Version: 2.17.0 Command: /Library/Frameworks/R.framework/Resources/bin/R CMD check --install=check:RnaSeqSampleSize.install-out.txt --library=/Library/Frameworks/R.framework/Resources/library --no-vignettes --timings RnaSeqSampleSize_2.17.0.tar.gz StartedAt: 2025-02-17 21:05:07 -0500 (Mon, 17 Feb 2025) EndedAt: 2025-02-17 21:07:17 -0500 (Mon, 17 Feb 2025) EllapsedTime: 129.5 seconds RetCode: 1 Status: ERROR CheckDir: RnaSeqSampleSize.Rcheck Warnings: NA