Package: RnBeads Version: 2.25.0 Command: E:\biocbuild\bbs-3.21-bioc\R\bin\R.exe CMD INSTALL RnBeads StartedAt: 2025-02-17 16:55:16 -0500 (Mon, 17 Feb 2025) EndedAt: 2025-02-17 16:57:57 -0500 (Mon, 17 Feb 2025) EllapsedTime: 161.1 seconds RetCode: 0 Status: OK