Package: RnBeads Version: 2.25.0 Command: chmod a+r RnBeads -R && E:\biocbuild\bbs-3.21-bioc\R\bin\R.exe CMD build --keep-empty-dirs --no-resave-data RnBeads StartedAt: 2025-02-17 21:07:24 -0500 (Mon, 17 Feb 2025) EndedAt: 2025-02-17 21:11:17 -0500 (Mon, 17 Feb 2025) EllapsedTime: 232.4 seconds RetCode: 0 Status: OK PackageFile: RnBeads_2.25.0.tar.gz PackageFileSize: 7.054 MiB