Package: RnBeads Version: 2.25.0 Command: /Library/Frameworks/R.framework/Resources/bin/R CMD INSTALL RnBeads StartedAt: 2025-02-17 15:42:32 -0500 (Mon, 17 Feb 2025) EndedAt: 2025-02-17 15:44:24 -0500 (Mon, 17 Feb 2025) EllapsedTime: 112.1 seconds RetCode: 0 Status: OK