Package: RnBeads Version: 2.25.0 Command: /Library/Frameworks/R.framework/Resources/bin/R CMD build --keep-empty-dirs --no-resave-data RnBeads StartedAt: 2025-02-17 18:00:43 -0500 (Mon, 17 Feb 2025) EndedAt: 2025-02-17 18:03:30 -0500 (Mon, 17 Feb 2025) EllapsedTime: 166.9 seconds RetCode: 0 Status: OK PackageFile: RnBeads_2.25.0.tar.gz PackageFileSize: 7.566 MiB