Package: Rmmquant Version: 1.25.0 Command: /Library/Frameworks/R.framework/Resources/bin/R CMD INSTALL Rmmquant StartedAt: 2025-02-17 15:27:23 -0500 (Mon, 17 Feb 2025) EndedAt: 2025-02-17 15:28:36 -0500 (Mon, 17 Feb 2025) EllapsedTime: 72.5 seconds RetCode: 0 Status: OK